BEGIN:VCALENDAR
VERSION:2.0
PRODID:-//Site de la Mairie de Bouquet - ECPv6.15.14//NONSGML v1.0//EN
CALSCALE:GREGORIAN
METHOD:PUBLISH
X-WR-CALNAME:Site de la Mairie de Bouquet
X-ORIGINAL-URL:https://www.mairiedebouquet.com
X-WR-CALDESC:Évènements pour Site de la Mairie de Bouquet
REFRESH-INTERVAL;VALUE=DURATION:PT1H
X-Robots-Tag:noindex
X-PUBLISHED-TTL:PT1H
BEGIN:VTIMEZONE
TZID:Europe/Paris
BEGIN:DAYLIGHT
TZOFFSETFROM:+0100
TZOFFSETTO:+0200
TZNAME:CEST
DTSTART:20240331T010000
END:DAYLIGHT
BEGIN:STANDARD
TZOFFSETFROM:+0200
TZOFFSETTO:+0100
TZNAME:CET
DTSTART:20241027T010000
END:STANDARD
BEGIN:DAYLIGHT
TZOFFSETFROM:+0100
TZOFFSETTO:+0200
TZNAME:CEST
DTSTART:20250330T010000
END:DAYLIGHT
BEGIN:STANDARD
TZOFFSETFROM:+0200
TZOFFSETTO:+0100
TZNAME:CET
DTSTART:20251026T010000
END:STANDARD
BEGIN:DAYLIGHT
TZOFFSETFROM:+0100
TZOFFSETTO:+0200
TZNAME:CEST
DTSTART:20260329T010000
END:DAYLIGHT
BEGIN:STANDARD
TZOFFSETFROM:+0200
TZOFFSETTO:+0100
TZNAME:CET
DTSTART:20261025T010000
END:STANDARD
END:VTIMEZONE
BEGIN:VEVENT
DTSTART;TZID=Europe/Paris:20250809T203000
DTEND;TZID=Europe/Paris:20250809T223000
DTSTAMP:20260422T125059
CREATED:20250730T161134Z
LAST-MODIFIED:20250730T161134Z
UID:10053-1754771400-1754778600@www.mairiedebouquet.com
SUMMARY:Festival "Bouquet de musiques"\, samedi 9 août à 20h 30 dans le jardin de l'église
DESCRIPTION:
URL:https://www.mairiedebouquet.com/evenements/festival-bouquet-de-musiques-samedi-9-aout-a-20h-30-dans-le-jardin-de-leglise/
LOCATION:Eglise de Bouquet\, Route du Puech\, Bouquet\, 30580
ATTACH;FMTTYPE=image/jpeg:https://www.mairiedebouquet.com/wp-content/uploads/2025/07/2025-07-29_091916.jpg
END:VEVENT
BEGIN:VEVENT
DTSTART;TZID=Europe/Paris:20250809T210000
DTEND;TZID=Europe/Paris:20250816T200000
DTSTAMP:20260422T125059
CREATED:20250730T161850Z
LAST-MODIFIED:20250825T184156Z
UID:10060-1754773200-1755374400@www.mairiedebouquet.com
SUMMARY:Exposition de céramiques\, gravures et photographies du 9 au 16 août\, au Temple de Bouquet
DESCRIPTION:
URL:https://www.mairiedebouquet.com/evenements/exposition-de-ceramiques-gravures-et-photographies-du-9-au-16-aout-au-temple-de-bouquet/
LOCATION:Le Temple du Puech\, Le Puech et Serre de vignes\, Bouquet\, Gard\, 30580\, France
CATEGORIES:Agenda
ATTACH;FMTTYPE=image/jpeg:https://www.mairiedebouquet.com/wp-content/uploads/2025/07/2025-07-29_091754-1-rotated.jpg
END:VEVENT
BEGIN:VEVENT
DTSTART;TZID=Europe/Paris:20250812T203000
DTEND;TZID=Europe/Paris:20250812T223000
DTSTAMP:20260422T125059
CREATED:20250730T161304Z
LAST-MODIFIED:20250730T161327Z
UID:10055-1755030600-1755037800@www.mairiedebouquet.com
SUMMARY:Festival "Bouquet de musiques"\, mardi 12 août à 20h 30 dans le jardin de l'église
DESCRIPTION:
URL:https://www.mairiedebouquet.com/evenements/festival-bouquet-de-musiques-mardi-12-aout-a-20h-30-dans-le-jardin-de-leglise/
LOCATION:Eglise de Bouquet\, Route du Puech\, Bouquet\, 30580
ATTACH;FMTTYPE=image/jpeg:https://www.mairiedebouquet.com/wp-content/uploads/2025/07/2025-07-29_091916.jpg
END:VEVENT
BEGIN:VEVENT
DTSTART;TZID=Europe/Paris:20250815T180000
DTEND;TZID=Europe/Paris:20250815T193000
DTSTAMP:20260422T125059
CREATED:20250730T161523Z
LAST-MODIFIED:20250730T161539Z
UID:10057-1755280800-1755286200@www.mairiedebouquet.com
SUMMARY:Festival "Bouquet de musiques"\, vendredi 15 août à 18h dans l'église de Bouquet
DESCRIPTION:
URL:https://www.mairiedebouquet.com/evenements/festival-bouquet-de-musiques-vendredi-15-aout-a-18h-dans-leglise-de-bouquet/
LOCATION:Eglise de Bouquet\, Route du Puech\, Bouquet\, 30580
CATEGORIES:Agenda
ATTACH;FMTTYPE=image/jpeg:https://www.mairiedebouquet.com/wp-content/uploads/2025/07/2025-07-29_091916.jpg
END:VEVENT
END:VCALENDAR