BEGIN:VCALENDAR
VERSION:2.0
PRODID:-//Site de la Mairie de Bouquet - ECPv6.15.14//NONSGML v1.0//EN
CALSCALE:GREGORIAN
METHOD:PUBLISH
X-WR-CALNAME:Site de la Mairie de Bouquet
X-ORIGINAL-URL:https://www.mairiedebouquet.com
X-WR-CALDESC:Évènements pour Site de la Mairie de Bouquet
REFRESH-INTERVAL;VALUE=DURATION:PT1H
X-Robots-Tag:noindex
X-PUBLISHED-TTL:PT1H
BEGIN:VTIMEZONE
TZID:Europe/Paris
BEGIN:DAYLIGHT
TZOFFSETFROM:+0100
TZOFFSETTO:+0200
TZNAME:CEST
DTSTART:20230326T010000
END:DAYLIGHT
BEGIN:STANDARD
TZOFFSETFROM:+0200
TZOFFSETTO:+0100
TZNAME:CET
DTSTART:20231029T010000
END:STANDARD
BEGIN:DAYLIGHT
TZOFFSETFROM:+0100
TZOFFSETTO:+0200
TZNAME:CEST
DTSTART:20240331T010000
END:DAYLIGHT
BEGIN:STANDARD
TZOFFSETFROM:+0200
TZOFFSETTO:+0100
TZNAME:CET
DTSTART:20241027T010000
END:STANDARD
BEGIN:DAYLIGHT
TZOFFSETFROM:+0100
TZOFFSETTO:+0200
TZNAME:CEST
DTSTART:20250330T010000
END:DAYLIGHT
BEGIN:STANDARD
TZOFFSETFROM:+0200
TZOFFSETTO:+0100
TZNAME:CET
DTSTART:20251026T010000
END:STANDARD
END:VTIMEZONE
BEGIN:VEVENT
DTSTART;TZID=Europe/Paris:20240812T203000
DTEND;TZID=Europe/Paris:20240812T223000
DTSTAMP:20260421T125119
CREATED:20240718T085101Z
LAST-MODIFIED:20240718T085111Z
UID:9668-1723494600-1723501800@www.mairiedebouquet.com
SUMMARY:Le Chant de la Terre\, Festival Bouquet de Musiques\, lundi 12 août à 20h 30\, aux jardins de l'Eglise de Bouquet
DESCRIPTION:
URL:https://www.mairiedebouquet.com/evenements/le-chant-de-la-terre-festival-bouquet-de-musiques-lundi-12-aout-a-20h-30-aux-jardins-de-leglise-de-bouquet/
LOCATION:Eglise de Bouquet\, Route du Puech\, Bouquet\, 30580
ATTACH;FMTTYPE=image/jpeg:https://www.mairiedebouquet.com/wp-content/uploads/2024/07/2024-07-18_103715.jpg
END:VEVENT
BEGIN:VEVENT
DTSTART;TZID=Europe/Paris:20240815T110000
DTEND;TZID=Europe/Paris:20240815T130000
DTSTAMP:20260421T125119
CREATED:20240718T085243Z
LAST-MODIFIED:20240718T085243Z
UID:9670-1723719600-1723726800@www.mairiedebouquet.com
SUMMARY:Concert Spirituel\, Festival Bouquet de musiques\, jeudi 15 août à 11h\, à l'Eglise de Bouquet
DESCRIPTION:
URL:https://www.mairiedebouquet.com/evenements/concert-spirituel-festival-bouquet-de-musiques-jeudi-15-aout-a-11h-a-leglise-de-bouquet/
LOCATION:Eglise de Bouquet\, Route du Puech\, Bouquet\, 30580
ATTACH;FMTTYPE=image/jpeg:https://www.mairiedebouquet.com/wp-content/uploads/2024/07/2024-07-18_103715.jpg
END:VEVENT
END:VCALENDAR