BEGIN:VCALENDAR
VERSION:2.0
PRODID:-//Site de la Mairie de Bouquet - ECPv6.15.14//NONSGML v1.0//EN
CALSCALE:GREGORIAN
METHOD:PUBLISH
X-ORIGINAL-URL:https://www.mairiedebouquet.com
X-WR-CALDESC:Évènements pour Site de la Mairie de Bouquet
REFRESH-INTERVAL;VALUE=DURATION:PT1H
X-Robots-Tag:noindex
X-PUBLISHED-TTL:PT1H
BEGIN:VTIMEZONE
TZID:Europe/Paris
BEGIN:DAYLIGHT
TZOFFSETFROM:+0100
TZOFFSETTO:+0200
TZNAME:CEST
DTSTART:20230326T010000
END:DAYLIGHT
BEGIN:STANDARD
TZOFFSETFROM:+0200
TZOFFSETTO:+0100
TZNAME:CET
DTSTART:20231029T010000
END:STANDARD
BEGIN:DAYLIGHT
TZOFFSETFROM:+0100
TZOFFSETTO:+0200
TZNAME:CEST
DTSTART:20240331T010000
END:DAYLIGHT
BEGIN:STANDARD
TZOFFSETFROM:+0200
TZOFFSETTO:+0100
TZNAME:CET
DTSTART:20241027T010000
END:STANDARD
BEGIN:DAYLIGHT
TZOFFSETFROM:+0100
TZOFFSETTO:+0200
TZNAME:CEST
DTSTART:20250330T010000
END:DAYLIGHT
BEGIN:STANDARD
TZOFFSETFROM:+0200
TZOFFSETTO:+0100
TZNAME:CET
DTSTART:20251026T010000
END:STANDARD
END:VTIMEZONE
BEGIN:VEVENT
DTSTART;TZID=Europe/Paris:20240529T203000
DTEND;TZID=Europe/Paris:20240529T223000
DTSTAMP:20260421T174711
CREATED:20240524T123346Z
LAST-MODIFIED:20240524T123529Z
UID:9597-1717014600-1717021800@www.mairiedebouquet.com
SUMMARY:Concert de P.H. Xuereb : mercredi 29 mai à 20h 30 au Temple de Bouquet
DESCRIPTION:Le programme : en savoir plus
URL:https://www.mairiedebouquet.com/evenements/concert-de-p-h-xuereb-mercredi-29-mai-a-20h-30-au-temple-de-bouquet/
LOCATION:Le Temple du Puech\, Le Puech et Serre de vignes\, Bouquet\, Gard\, 30580\, France
ATTACH;FMTTYPE=image/jpeg:https://www.mairiedebouquet.com/wp-content/uploads/2024/05/2024-05-24_143450.jpg
END:VEVENT
END:VCALENDAR